BEGIN:VCALENDAR
VERSION:2.0
PRODID:-//Istituto Sike - ECPv6.15.11//NONSGML v1.0//EN
CALSCALE:GREGORIAN
METHOD:PUBLISH
X-ORIGINAL-URL:https://www.istitutosike.com
X-WR-CALDESC:Eventi per Istituto Sike
REFRESH-INTERVAL;VALUE=DURATION:PT1H
X-Robots-Tag:noindex
X-PUBLISHED-TTL:PT1H
BEGIN:VTIMEZONE
TZID:Europe/Rome
BEGIN:DAYLIGHT
TZOFFSETFROM:+0100
TZOFFSETTO:+0200
TZNAME:CEST
DTSTART:20250330T010000
END:DAYLIGHT
BEGIN:STANDARD
TZOFFSETFROM:+0200
TZOFFSETTO:+0100
TZNAME:CET
DTSTART:20251026T010000
END:STANDARD
BEGIN:DAYLIGHT
TZOFFSETFROM:+0100
TZOFFSETTO:+0200
TZNAME:CEST
DTSTART:20260329T010000
END:DAYLIGHT
BEGIN:STANDARD
TZOFFSETFROM:+0200
TZOFFSETTO:+0100
TZNAME:CET
DTSTART:20261025T010000
END:STANDARD
BEGIN:DAYLIGHT
TZOFFSETFROM:+0100
TZOFFSETTO:+0200
TZNAME:CEST
DTSTART:20270328T010000
END:DAYLIGHT
BEGIN:STANDARD
TZOFFSETFROM:+0200
TZOFFSETTO:+0100
TZNAME:CET
DTSTART:20271031T010000
END:STANDARD
END:VTIMEZONE
BEGIN:VEVENT
DTSTART;VALUE=DATE:20260521
DTEND;VALUE=DATE:20260522
DTSTAMP:20260423T212621
CREATED:20260422T110400Z
LAST-MODIFIED:20260422T111041Z
UID:5349-1779321600-1779407999@www.istitutosike.com
SUMMARY:Adolescenze e discorsi di verità. Per farla finita con giudizio diagnostico
DESCRIPTION:Da quando è diventato normale parlare di adolescenza come di una malattia o di un pericolo per la sicurezza pubblica?\nLe adolescenze oggi vengono osservate\, misurate\, nominate e classificate senza sosta da un linguaggio diagnostico diventato ormai senso comune.\nNon è solo un modo di descriverle: è il modo in cui vengono dette e trasformate in veri e propri discorsi di verità. Lungi dall’essere un semplice registro tecnico\, il linguaggio diagnostico definisce identità\, orienta decisioni e incide profondamente sulle possibilità delle ragazze e dei ragazzi e sul lavoro di chi con loro opera. \nAdolescenze e discorsi di verità. Per farla finita con il giudizio diagnostico: una mattina di interventi dichiaratamente non neutrali\, con contributi che interrogano il giudizio\, il linguaggio e l’idea stessa di diagnosi. \nUn pomeriggio di lavoro in tre workshop (Penale Minorile /  Piscologico- Psichiatrico / Educativo territoriale) costruiti a partire dai “nodi” che emergono nelle esperienze professionali\, per mettere in discussione la diagnosi come pratica\, come discorso e come dispositivo che attraversa le istituzioni educative\, giudiziarie\, sociali e le professioni della cura. \nAdolescenze e discorsi di verità. Per farla finita con il giudizio diagnostico sarà – speriamo – uno spazio capace di riaprire uno sguardo critico quanto mai necessario per restituire complessità\, responsabilità e possibilità all’agire con le adolescenze contemporanee. \n  \n>>> Per maggiori informazioni scarica la locandina.
URL:https://www.istitutosike.com/evento/adolescenze-e-discorsi-di-verita/
LOCATION:milano\, Via Calchi Taeggi\, Milano
ATTACH;FMTTYPE=image/png:https://www.istitutosike.com/wp-content/uploads/2026/04/Schermata-2026-04-22-alle-12.59.06.png
END:VEVENT
END:VCALENDAR